BEGIN:VCALENDAR
VERSION:2.0
PRODID:-//Ville de Saint Brès - ECPv6.15.18//NONSGML v1.0//EN
CALSCALE:GREGORIAN
METHOD:PUBLISH
X-ORIGINAL-URL:https://www.ville-saintbres.fr
X-WR-CALDESC:Évènements pour Ville de Saint Brès
REFRESH-INTERVAL;VALUE=DURATION:PT1H
X-Robots-Tag:noindex
X-PUBLISHED-TTL:PT1H
BEGIN:VTIMEZONE
TZID:Europe/Paris
BEGIN:DAYLIGHT
TZOFFSETFROM:+0100
TZOFFSETTO:+0200
TZNAME:CEST
DTSTART:20240331T010000
END:DAYLIGHT
BEGIN:STANDARD
TZOFFSETFROM:+0200
TZOFFSETTO:+0100
TZNAME:CET
DTSTART:20241027T010000
END:STANDARD
BEGIN:DAYLIGHT
TZOFFSETFROM:+0100
TZOFFSETTO:+0200
TZNAME:CEST
DTSTART:20250330T010000
END:DAYLIGHT
BEGIN:STANDARD
TZOFFSETFROM:+0200
TZOFFSETTO:+0100
TZNAME:CET
DTSTART:20251026T010000
END:STANDARD
BEGIN:DAYLIGHT
TZOFFSETFROM:+0100
TZOFFSETTO:+0200
TZNAME:CEST
DTSTART:20260329T010000
END:DAYLIGHT
BEGIN:STANDARD
TZOFFSETFROM:+0200
TZOFFSETTO:+0100
TZNAME:CET
DTSTART:20261025T010000
END:STANDARD
END:VTIMEZONE
BEGIN:VEVENT
DTSTART;TZID=Europe/Paris:20251205T183000
DTEND;TZID=Europe/Paris:20251205T230000
DTSTAMP:20260421T115030
CREATED:20251118T141656Z
LAST-MODIFIED:20251118T141656Z
UID:31621-1764959400-1764975600@www.ville-saintbres.fr
SUMMARY:Saint-Brès s'illumine !
DESCRIPTION:Nous vous donnons rendez-vous le vendredi 5 décembre à partir de 18h30\, sur la Place de la Ramade\, pour lancer ensemble la magie des fêtes ! \nAu programme : \n– Déambulations enchantées de Noël avec la troupe Les Enjoliveurs : “La Danse des Éléphants”\, un spectacle féerique pour petits et grands. \n– Dégustations de Noël \n– Vin chaud pour se réchauffer \n– Visite du Père Noël \n– Distribution de bonnets de Noël pour tous les enfants \nVenez partager ce moment chaleureux et lumineux en famille ou entre amis !
URL:https://www.ville-saintbres.fr/event/saint-bres-sillumine-2/
CATEGORIES:Mairie
ATTACH;FMTTYPE=application/pdf:https://www.ville-saintbres.fr/wp-content/uploads/2025/11/SBS-Bache-3-par-1-1-1.pdf
END:VEVENT
END:VCALENDAR